BEGIN:VCALENDAR
VERSION:2.0
PRODID:-//Indian Health Board of Minneapolis - ECPv6.15.18//NONSGML v1.0//EN
CALSCALE:GREGORIAN
METHOD:PUBLISH
X-ORIGINAL-URL:https://www.indianhealthboard.com
X-WR-CALDESC:Events for Indian Health Board of Minneapolis
REFRESH-INTERVAL;VALUE=DURATION:PT1H
X-Robots-Tag:noindex
X-PUBLISHED-TTL:PT1H
BEGIN:VTIMEZONE
TZID:UTC
BEGIN:STANDARD
TZOFFSETFROM:+0000
TZOFFSETTO:+0000
TZNAME:UTC
DTSTART:20250101T000000
END:STANDARD
END:VTIMEZONE
BEGIN:VEVENT
DTSTART;TZID=UTC:20260828T080000
DTEND;TZID=UTC:20260828T170000
DTSTAMP:20260421T071621
CREATED:20260303T012317Z
LAST-MODIFIED:20260312T223114Z
UID:10000797-1787904000-1787936400@www.indianhealthboard.com
SUMMARY:Back-to-School Check-Up Days
DESCRIPTION:Indian Health Board Back-to-School Check-Up Days \nYour child’s health is the best school supply! Bring your child in for a well child check-up and receive free school supplies. A medical or dental appointment is required to qualify. Appointments available for ages 5–18\, 9AM – 5PM. \n\nWell Child Check-Up Dates Eligible for Free School Supplies:\nAug 11\, 2026 (Native Youth Day) | Aug 27\, 2026 | Aug 28\, 2026 \n\nWhy schedule a medical or dental check-up?\nMake sure your child is ready for school — mind\, body\, and spirit. Catch up on required vaccines\, get physicals for sports or school forms\, and talk to a provider about growth\, development\, sleep\, mental health\, and more.\nCall to schedule: 612-721-9800\n\nThis event is supported by the Centers for Medicare and Medicaid Services (CMS) of the U.S. Department of Health and Human Services (HHS) as part of a financial assistance award totaling $755\,034\, with 100 percent funded by CMS/HHS. InsureKidsNow.gov
URL:https://www.indianhealthboard.com/event/back-to-school-check-up-days/2026-08-28/
LOCATION:Medical & Dental Building\, 1315 E 24th St.\, Minneapolis\, MN\, 55404
END:VEVENT
END:VCALENDAR