BEGIN:VCALENDAR
VERSION:2.0
PRODID:-//Indian Health Board of Minneapolis - ECPv6.15.18//NONSGML v1.0//EN
CALSCALE:GREGORIAN
METHOD:PUBLISH
X-ORIGINAL-URL:https://www.indianhealthboard.com
X-WR-CALDESC:Events for Indian Health Board of Minneapolis
REFRESH-INTERVAL;VALUE=DURATION:PT1H
X-Robots-Tag:noindex
X-PUBLISHED-TTL:PT1H
BEGIN:VTIMEZONE
TZID:UTC
BEGIN:STANDARD
TZOFFSETFROM:+0000
TZOFFSETTO:+0000
TZNAME:UTC
DTSTART:20250101T000000
END:STANDARD
END:VTIMEZONE
BEGIN:VEVENT
DTSTART;TZID=UTC:20260827T080000
DTEND;TZID=UTC:20260827T170000
DTSTAMP:20260421T071706
CREATED:20260303T012317Z
LAST-MODIFIED:20260312T223114Z
UID:10000796-1787817600-1787850000@www.indianhealthboard.com
SUMMARY:Back-to-School Check-Up Days
DESCRIPTION:Indian Health Board Back-to-School Check-Up Days \nYour child’s health is the best school supply! Bring your child in for a well child check-up and receive free school supplies. A medical or dental appointment is required to qualify. Appointments available for ages 5–18\, 9AM – 5PM. \n\nWell Child Check-Up Dates Eligible for Free School Supplies:\nAug 11\, 2026 (Native Youth Day) | Aug 27\, 2026 | Aug 28\, 2026 \n\nWhy schedule a medical or dental check-up?\nMake sure your child is ready for school — mind\, body\, and spirit. Catch up on required vaccines\, get physicals for sports or school forms\, and talk to a provider about growth\, development\, sleep\, mental health\, and more.\nCall to schedule: 612-721-9800\n\nThis event is supported by the Centers for Medicare and Medicaid Services (CMS) of the U.S. Department of Health and Human Services (HHS) as part of a financial assistance award totaling $755\,034\, with 100 percent funded by CMS/HHS. InsureKidsNow.gov
URL:https://www.indianhealthboard.com/event/back-to-school-check-up-days/2026-08-27/
LOCATION:Medical & Dental Building\, 1315 E 24th St.\, Minneapolis\, MN\, 55404
END:VEVENT
BEGIN:VEVENT
DTSTART;TZID=UTC:20260827T153000
DTEND;TZID=UTC:20260827T173000
DTSTAMP:20260421T071706
CREATED:20260303T011628Z
LAST-MODIFIED:20260312T223236Z
UID:10000088-1787844600-1787851800@www.indianhealthboard.com
SUMMARY:Reclaim Strength & Purpose
DESCRIPTION:Reclaim Strength & Purpose \nAt IHB’s Adolescent Recovery Services\, we’re here to help young people navigate life’s challenges with culturally responsive care that respects their journey. Whether facing substance use or co-occurring mental health concerns\, our supportive team walks alongside youth and families every step of the way. Our adolescent program blends cultural traditions with proven therapeutic approaches\, aiming to strengthen resilience\, restore balance\, and reconnect youth with their identity and community. \nAdolescent Recovery Services: \n\nAdolescent Intensive Outpatient Program (IOP) — Culturally tailored group therapy and skill-building in a supportive environment. 📅 Mondays\, Wednesdays & Thursdays | 3:30 PM – 5:30 PM | In-person or Telehealth options available.\nTelehealth Services — Our secure telehealth option provides convenient access to recovery support tailored to your needs.\nComprehensive Assessments — Personalized evaluations to determine the best care for you (known as ‘Rule 25s’).\n\nLet’s walk this journey together — stronger\, supported\, and rooted.
URL:https://www.indianhealthboard.com/event/reclaim-strength-purpose/2026-08-27/
LOCATION:Medical & Dental Building\, 1315 E 24th St.\, Minneapolis\, MN\, 55404
ATTACH;FMTTYPE=image/jpeg:https://www.indianhealthboard.com/wp-content/uploads/2026/03/501757375_1317159780180534_2914044805105537739_n.jpg
END:VEVENT
END:VCALENDAR